BEGIN:VCALENDAR
VERSION:2.0
PRODID:-//Garbsen City News - ECPv6.15.18//NONSGML v1.0//EN
CALSCALE:GREGORIAN
METHOD:PUBLISH
X-WR-CALNAME:Garbsen City News
X-ORIGINAL-URL:https://garbsen-city-news.de
X-WR-CALDESC:Veranstaltungen für Garbsen City News
REFRESH-INTERVAL;VALUE=DURATION:PT1H
X-Robots-Tag:noindex
X-PUBLISHED-TTL:PT1H
BEGIN:VTIMEZONE
TZID:Europe/Berlin
BEGIN:DAYLIGHT
TZOFFSETFROM:+0100
TZOFFSETTO:+0200
TZNAME:CEST
DTSTART:20250330T010000
END:DAYLIGHT
BEGIN:STANDARD
TZOFFSETFROM:+0200
TZOFFSETTO:+0100
TZNAME:CET
DTSTART:20251026T010000
END:STANDARD
BEGIN:DAYLIGHT
TZOFFSETFROM:+0100
TZOFFSETTO:+0200
TZNAME:CEST
DTSTART:20260329T010000
END:DAYLIGHT
BEGIN:STANDARD
TZOFFSETFROM:+0200
TZOFFSETTO:+0100
TZNAME:CET
DTSTART:20261025T010000
END:STANDARD
BEGIN:DAYLIGHT
TZOFFSETFROM:+0100
TZOFFSETTO:+0200
TZNAME:CEST
DTSTART:20270328T010000
END:DAYLIGHT
BEGIN:STANDARD
TZOFFSETFROM:+0200
TZOFFSETTO:+0100
TZNAME:CET
DTSTART:20271031T010000
END:STANDARD
END:VTIMEZONE
BEGIN:VEVENT
DTSTART;VALUE=DATE:20260423
DTEND;VALUE=DATE:20260424
DTSTAMP:20260419T141110
CREATED:20260419T081504Z
LAST-MODIFIED:20260419T081711Z
UID:10002180-1776902400-1776988799@garbsen-city-news.de
SUMMARY:"Autofrühling" am Planetencenter
DESCRIPTION:Garbsen – „Autofrühling“ am Planetencenter mit Autos und Campern: Vom 23.-25.04.2026 gibt es Modelle von Hyundai und Genesis plus Wohnmobile und Service sowie einiges mehr. \nWo?\nStattfinden wird der Autofrühling auf dem Parkplatz in der mittleren Parkreihe vor dem Nord-Eingang des Planetencenters. \nWorum es geht?\nBeim Autofrühling stehen diverse Themen rund um Mobilität im Mittelpunkt. In diesem Jahr werden Fahrzeuge von Hyundai und Genesis sowie Wohnwägen beziehungsweise Wohnmobile präsentiert. \nDiese Angebote sind außerdem dabei\nErgänzt wird das Programm durch mehrere Partner und Stationen. \n\nEine Firma\, die Wallboxen in Verbindung mit PV Anlagen anbietet.\nDie Firma Vorbeck mit Solar-Car-Ports.\nDer ADAC.\nEin Zulassungsservice.\n\nPlanetencenter Garbsen | Autofrühling vom 23. April bis 25. April 2026\nRahmenprogramm\nZum Rahmenprogramm gehört auch ein Angebot für Kinder mit Karussell und Kaspertheater. \nAusblick\nGeplant ist eine jährliche Wiederholung des Autofrühlings. \nGCN/aw – Autofrühling
URL:https://garbsen-city-news.de/event/autofruehling-am-planetencenter/2026-04-23/
LOCATION:Parkplatz in der mittleren Parkreihe vor dem Nord-Eingang des Planetencenters\, Plantenring 25-27\, Garbsen
ATTACH;FMTTYPE=image/jpeg:https://garbsen-city-news.de/wp-content/uploads/2026/04/Motiv-Autofruehling-1-e1776586239288.jpg
END:VEVENT
BEGIN:VEVENT
DTSTART;VALUE=DATE:20260424
DTEND;VALUE=DATE:20260425
DTSTAMP:20260419T141110
CREATED:20260419T081504Z
LAST-MODIFIED:20260419T081711Z
UID:10002181-1777017600-1777050000@garbsen-city-news.de
SUMMARY:"Autofrühling" am Planetencenter
DESCRIPTION:Garbsen – „Autofrühling“ am Planetencenter mit Autos und Campern: Vom 23.-25.04.2026 gibt es Modelle von Hyundai und Genesis plus Wohnmobile und Service sowie einiges mehr. \nWo?\nStattfinden wird der Autofrühling auf dem Parkplatz in der mittleren Parkreihe vor dem Nord-Eingang des Planetencenters. \nWorum es geht?\nBeim Autofrühling stehen diverse Themen rund um Mobilität im Mittelpunkt. In diesem Jahr werden Fahrzeuge von Hyundai und Genesis sowie Wohnwägen beziehungsweise Wohnmobile präsentiert. \nDiese Angebote sind außerdem dabei\nErgänzt wird das Programm durch mehrere Partner und Stationen. \n\nEine Firma\, die Wallboxen in Verbindung mit PV Anlagen anbietet.\nDie Firma Vorbeck mit Solar-Car-Ports.\nDer ADAC.\nEin Zulassungsservice.\n\nPlanetencenter Garbsen | Autofrühling vom 23. April bis 25. April 2026\nRahmenprogramm\nZum Rahmenprogramm gehört auch ein Angebot für Kinder mit Karussell und Kaspertheater. \nAusblick\nGeplant ist eine jährliche Wiederholung des Autofrühlings. \nGCN/aw – Autofrühling
URL:https://garbsen-city-news.de/event/autofruehling-am-planetencenter/2026-04-24/
LOCATION:Parkplatz in der mittleren Parkreihe vor dem Nord-Eingang des Planetencenters\, Plantenring 25-27\, Garbsen
ATTACH;FMTTYPE=image/jpeg:https://garbsen-city-news.de/wp-content/uploads/2026/04/Motiv-Autofruehling-1-e1776586239288.jpg
END:VEVENT
BEGIN:VEVENT
DTSTART;VALUE=DATE:20260425
DTEND;VALUE=DATE:20260426
DTSTAMP:20260419T141110
CREATED:20260419T081504Z
LAST-MODIFIED:20260419T081711Z
UID:10002182-1777104000-1777136400@garbsen-city-news.de
SUMMARY:"Autofrühling" am Planetencenter
DESCRIPTION:Garbsen – „Autofrühling“ am Planetencenter mit Autos und Campern: Vom 23.-25.04.2026 gibt es Modelle von Hyundai und Genesis plus Wohnmobile und Service sowie einiges mehr. \nWo?\nStattfinden wird der Autofrühling auf dem Parkplatz in der mittleren Parkreihe vor dem Nord-Eingang des Planetencenters. \nWorum es geht?\nBeim Autofrühling stehen diverse Themen rund um Mobilität im Mittelpunkt. In diesem Jahr werden Fahrzeuge von Hyundai und Genesis sowie Wohnwägen beziehungsweise Wohnmobile präsentiert. \nDiese Angebote sind außerdem dabei\nErgänzt wird das Programm durch mehrere Partner und Stationen. \n\nEine Firma\, die Wallboxen in Verbindung mit PV Anlagen anbietet.\nDie Firma Vorbeck mit Solar-Car-Ports.\nDer ADAC.\nEin Zulassungsservice.\n\nPlanetencenter Garbsen | Autofrühling vom 23. April bis 25. April 2026\nRahmenprogramm\nZum Rahmenprogramm gehört auch ein Angebot für Kinder mit Karussell und Kaspertheater. \nAusblick\nGeplant ist eine jährliche Wiederholung des Autofrühlings. \nGCN/aw – Autofrühling
URL:https://garbsen-city-news.de/event/autofruehling-am-planetencenter/2026-04-25/
LOCATION:Parkplatz in der mittleren Parkreihe vor dem Nord-Eingang des Planetencenters\, Plantenring 25-27\, Garbsen
ATTACH;FMTTYPE=image/jpeg:https://garbsen-city-news.de/wp-content/uploads/2026/04/Motiv-Autofruehling-1-e1776586239288.jpg
END:VEVENT
END:VCALENDAR