BEGIN:VCALENDAR
VERSION:2.0
PRODID:-//Garbsen City News - ECPv6.15.18//NONSGML v1.0//EN
CALSCALE:GREGORIAN
METHOD:PUBLISH
X-WR-CALNAME:Garbsen City News
X-ORIGINAL-URL:https://garbsen-city-news.de
X-WR-CALDESC:Veranstaltungen für Garbsen City News
REFRESH-INTERVAL;VALUE=DURATION:PT1H
X-Robots-Tag:noindex
X-PUBLISHED-TTL:PT1H
BEGIN:VTIMEZONE
TZID:Europe/Berlin
BEGIN:DAYLIGHT
TZOFFSETFROM:+0100
TZOFFSETTO:+0200
TZNAME:CEST
DTSTART:20250330T010000
END:DAYLIGHT
BEGIN:STANDARD
TZOFFSETFROM:+0200
TZOFFSETTO:+0100
TZNAME:CET
DTSTART:20251026T010000
END:STANDARD
BEGIN:DAYLIGHT
TZOFFSETFROM:+0100
TZOFFSETTO:+0200
TZNAME:CEST
DTSTART:20260329T010000
END:DAYLIGHT
BEGIN:STANDARD
TZOFFSETFROM:+0200
TZOFFSETTO:+0100
TZNAME:CET
DTSTART:20261025T010000
END:STANDARD
BEGIN:DAYLIGHT
TZOFFSETFROM:+0100
TZOFFSETTO:+0200
TZNAME:CEST
DTSTART:20270328T010000
END:DAYLIGHT
BEGIN:STANDARD
TZOFFSETFROM:+0200
TZOFFSETTO:+0100
TZNAME:CET
DTSTART:20271031T010000
END:STANDARD
END:VTIMEZONE
BEGIN:VEVENT
DTSTART;TZID=Europe/Berlin:20260502T150000
DTEND;TZID=Europe/Berlin:20260502T170000
DTSTAMP:20260423T121118
CREATED:20260421T074323Z
LAST-MODIFIED:20260421T074323Z
UID:10002185-1777734000-1777741200@garbsen-city-news.de
SUMMARY:Das "Interkulturelle Café BeBo"
DESCRIPTION:Alle 2 Monate trifft sich das Interkulturelle Café BeBo in der Begegnungsstätte im Werner-Baesmann-Park. \nDas interkulturelle Café BeBo in Berenbostel hat sich zu einem lebendigen Treffpunkt entwickelt\, an dem Menschen unterschiedlicher Herkunft in einer offenen und herzlichen Atmosphäre zusammenkommen. Im Rahmen des Sozialprojekts „Neuland“\, das sich für die Integration und das Miteinander in Garbsen einsetzt\, wird hier eine Plattform für Begegnungen geschaffen\, die das Verständnis und die Freundschaft zwischen Kulturen fördert. \nAlle Interessierten sind herzlich eingeladen. \n  \n \nGCN/aw – Das „Interkulturelle Café BeBo“
URL:https://garbsen-city-news.de/event/das-interkulturelle-cafe-bebo/2026-05-02/
LOCATION:Café BeBo in der Begegnungsstätte im Werner-Baesmann-Park\, Immenweg 5\, Garbsen\, 30827
ATTACH;FMTTYPE=image/png:https://garbsen-city-news.de/wp-content/uploads/2026/04/cafe-bebo-e1776756788554.png
END:VEVENT
BEGIN:VEVENT
DTSTART;TZID=Europe/Berlin:20260801T150000
DTEND;TZID=Europe/Berlin:20260801T170000
DTSTAMP:20260423T121118
CREATED:20260421T074323Z
LAST-MODIFIED:20260421T074323Z
UID:10002186-1785596400-1785603600@garbsen-city-news.de
SUMMARY:Das "Interkulturelle Café BeBo"
DESCRIPTION:Alle 2 Monate trifft sich das Interkulturelle Café BeBo in der Begegnungsstätte im Werner-Baesmann-Park. \nDas interkulturelle Café BeBo in Berenbostel hat sich zu einem lebendigen Treffpunkt entwickelt\, an dem Menschen unterschiedlicher Herkunft in einer offenen und herzlichen Atmosphäre zusammenkommen. Im Rahmen des Sozialprojekts „Neuland“\, das sich für die Integration und das Miteinander in Garbsen einsetzt\, wird hier eine Plattform für Begegnungen geschaffen\, die das Verständnis und die Freundschaft zwischen Kulturen fördert. \nAlle Interessierten sind herzlich eingeladen. \n  \n \nGCN/aw – Das „Interkulturelle Café BeBo“
URL:https://garbsen-city-news.de/event/das-interkulturelle-cafe-bebo/2026-08-01/
LOCATION:Café BeBo in der Begegnungsstätte im Werner-Baesmann-Park\, Immenweg 5\, Garbsen\, 30827
ATTACH;FMTTYPE=image/png:https://garbsen-city-news.de/wp-content/uploads/2026/04/cafe-bebo-e1776756788554.png
END:VEVENT
BEGIN:VEVENT
DTSTART;TZID=Europe/Berlin:20260905T150000
DTEND;TZID=Europe/Berlin:20260905T170000
DTSTAMP:20260423T121118
CREATED:20260421T074323Z
LAST-MODIFIED:20260421T074323Z
UID:10002187-1788620400-1788627600@garbsen-city-news.de
SUMMARY:Das "Interkulturelle Café BeBo"
DESCRIPTION:Alle 2 Monate trifft sich das Interkulturelle Café BeBo in der Begegnungsstätte im Werner-Baesmann-Park. \nDas interkulturelle Café BeBo in Berenbostel hat sich zu einem lebendigen Treffpunkt entwickelt\, an dem Menschen unterschiedlicher Herkunft in einer offenen und herzlichen Atmosphäre zusammenkommen. Im Rahmen des Sozialprojekts „Neuland“\, das sich für die Integration und das Miteinander in Garbsen einsetzt\, wird hier eine Plattform für Begegnungen geschaffen\, die das Verständnis und die Freundschaft zwischen Kulturen fördert. \nAlle Interessierten sind herzlich eingeladen. \n  \n \nGCN/aw – Das „Interkulturelle Café BeBo“
URL:https://garbsen-city-news.de/event/das-interkulturelle-cafe-bebo/2026-09-05/
LOCATION:Café BeBo in der Begegnungsstätte im Werner-Baesmann-Park\, Immenweg 5\, Garbsen\, 30827
ATTACH;FMTTYPE=image/png:https://garbsen-city-news.de/wp-content/uploads/2026/04/cafe-bebo-e1776756788554.png
END:VEVENT
BEGIN:VEVENT
DTSTART;TZID=Europe/Berlin:20261107T150000
DTEND;TZID=Europe/Berlin:20261107T170000
DTSTAMP:20260423T121118
CREATED:20260421T074323Z
LAST-MODIFIED:20260421T074323Z
UID:10002188-1794063600-1794070800@garbsen-city-news.de
SUMMARY:Das "Interkulturelle Café BeBo"
DESCRIPTION:Alle 2 Monate trifft sich das Interkulturelle Café BeBo in der Begegnungsstätte im Werner-Baesmann-Park. \nDas interkulturelle Café BeBo in Berenbostel hat sich zu einem lebendigen Treffpunkt entwickelt\, an dem Menschen unterschiedlicher Herkunft in einer offenen und herzlichen Atmosphäre zusammenkommen. Im Rahmen des Sozialprojekts „Neuland“\, das sich für die Integration und das Miteinander in Garbsen einsetzt\, wird hier eine Plattform für Begegnungen geschaffen\, die das Verständnis und die Freundschaft zwischen Kulturen fördert. \nAlle Interessierten sind herzlich eingeladen. \n  \n \nGCN/aw – Das „Interkulturelle Café BeBo“
URL:https://garbsen-city-news.de/event/das-interkulturelle-cafe-bebo/2026-11-07/
LOCATION:Café BeBo in der Begegnungsstätte im Werner-Baesmann-Park\, Immenweg 5\, Garbsen\, 30827
ATTACH;FMTTYPE=image/png:https://garbsen-city-news.de/wp-content/uploads/2026/04/cafe-bebo-e1776756788554.png
END:VEVENT
BEGIN:VEVENT
DTSTART;TZID=Europe/Berlin:20261205T150000
DTEND;TZID=Europe/Berlin:20261205T170000
DTSTAMP:20260423T121118
CREATED:20260421T074323Z
LAST-MODIFIED:20260421T074323Z
UID:10002189-1796482800-1796490000@garbsen-city-news.de
SUMMARY:Das "Interkulturelle Café BeBo"
DESCRIPTION:Alle 2 Monate trifft sich das Interkulturelle Café BeBo in der Begegnungsstätte im Werner-Baesmann-Park. \nDas interkulturelle Café BeBo in Berenbostel hat sich zu einem lebendigen Treffpunkt entwickelt\, an dem Menschen unterschiedlicher Herkunft in einer offenen und herzlichen Atmosphäre zusammenkommen. Im Rahmen des Sozialprojekts „Neuland“\, das sich für die Integration und das Miteinander in Garbsen einsetzt\, wird hier eine Plattform für Begegnungen geschaffen\, die das Verständnis und die Freundschaft zwischen Kulturen fördert. \nAlle Interessierten sind herzlich eingeladen. \n  \n \nGCN/aw – Das „Interkulturelle Café BeBo“
URL:https://garbsen-city-news.de/event/das-interkulturelle-cafe-bebo/2026-12-05/
LOCATION:Café BeBo in der Begegnungsstätte im Werner-Baesmann-Park\, Immenweg 5\, Garbsen\, 30827
ATTACH;FMTTYPE=image/png:https://garbsen-city-news.de/wp-content/uploads/2026/04/cafe-bebo-e1776756788554.png
END:VEVENT
END:VCALENDAR