BEGIN:VCALENDAR
VERSION:2.0
PRODID:-//Garbsen City News - ECPv6.15.18//NONSGML v1.0//EN
CALSCALE:GREGORIAN
METHOD:PUBLISH
X-WR-CALNAME:Garbsen City News
X-ORIGINAL-URL:https://garbsen-city-news.de
X-WR-CALDESC:Veranstaltungen für Garbsen City News
REFRESH-INTERVAL;VALUE=DURATION:PT1H
X-Robots-Tag:noindex
X-PUBLISHED-TTL:PT1H
BEGIN:VTIMEZONE
TZID:Europe/Berlin
BEGIN:DAYLIGHT
TZOFFSETFROM:+0100
TZOFFSETTO:+0200
TZNAME:CEST
DTSTART:20250330T010000
END:DAYLIGHT
BEGIN:STANDARD
TZOFFSETFROM:+0200
TZOFFSETTO:+0100
TZNAME:CET
DTSTART:20251026T010000
END:STANDARD
BEGIN:DAYLIGHT
TZOFFSETFROM:+0100
TZOFFSETTO:+0200
TZNAME:CEST
DTSTART:20260329T010000
END:DAYLIGHT
BEGIN:STANDARD
TZOFFSETFROM:+0200
TZOFFSETTO:+0100
TZNAME:CET
DTSTART:20261025T010000
END:STANDARD
BEGIN:DAYLIGHT
TZOFFSETFROM:+0100
TZOFFSETTO:+0200
TZNAME:CEST
DTSTART:20270328T010000
END:DAYLIGHT
BEGIN:STANDARD
TZOFFSETFROM:+0200
TZOFFSETTO:+0100
TZNAME:CET
DTSTART:20271031T010000
END:STANDARD
END:VTIMEZONE
BEGIN:VEVENT
DTSTART;TZID=Europe/Berlin:20260428T100000
DTEND;TZID=Europe/Berlin:20260428T140000
DTSTAMP:20260423T134342
CREATED:20260422T145645Z
LAST-MODIFIED:20260422T145645Z
UID:10002194-1777370400-1777384800@garbsen-city-news.de
SUMMARY:Aktionstag sicher.mobil.leben: Fokus auf Zweiradsicherheit
DESCRIPTION:Garbsen – Zweirad Aktionstag sicher.mobil.leben: Polizei berät zu E-Scooter Regeln\, Helm\, Sichtbarkeit\, Codierung und Diebstahlschutz. \nAktionstag am 28. April 2026\nAm 28.04.2026 läuft bundesweit der Aktionstag \,\,sicher.mobil.leben“. In diesem Jahr steht die Sicherheit rund um Zweiräder im Mittelpunkt. \nInfostand auf dem Rathausplatz\nDie Polizeiinspektion Garbsen beteiligt sich mit einem Informationsstand auf dem Rathausplatz in Garbsen. Vor Ort geht es in der Zeit von 10:00 bis 14:00 Uhr um Beratung und praktische Hinweise rund ums sichere Unterwegssein. \nRegeln für E-Scooter und kostenlose Fahrradcodierung\nDas Präventionsteam der Polizeiinspektion Garbsen gibt umfassende Informationen zu den aktuellen Regeln rund um den E-Scooter. Außerdem gibt es eine kostenlose Fahrradcodierung. Dafür werden ein Eigentumsnachweis sowie ein gültiges Ausweisdokument benötigt. \nSichtbarkeit\, Helm und Parcours\nEin weiterer Schwerpunkt liegt auf der Sichtbarkeit im Straßenverkehr sowie der richtigen Einstellung und dem sicheren Tragen eines Fahrradhelmes. Ein kleiner Geschicklichkeitsparcours für Pedelecs bietet die Möglichkeit\, das eigene Fahrkönnen zu testen. \nSchutz vor Diebstahl\nErgänzend gibt es Tipps zum sicheren Abstellen und zum effektiven Schutz von Fahrrädern vor Diebstahl. Die Aktion wird von der Polizeidirektion Hannover\, Polizeiinspektion Garbsen\, Meyenfelder Str. 3\, 30823 Garbsen\, begleitet. \nVeranstalter\nPolizeidirektion Hannover\, Polizeiinspektion Garbsen \nVeranstaltungsort\nMeyenfelder Str. 3\n30823 Garbsen \nFoto: Polizeiinspektion Garbsen
URL:https://garbsen-city-news.de/event/aktionstag-sicher-mobil-leben-fokus-auf-zweiradsicherheit/
LOCATION:Polizeidirektion Hannover\, Polizeiinspektion Garbsen\, Meyenfelder Str. 3\, Garbsen\, 30823
ATTACH;FMTTYPE=image/jpeg:https://garbsen-city-news.de/wp-content/uploads/2026/04/Infomobil_0.jpg
END:VEVENT
END:VCALENDAR